BEGIN:VCALENDAR
VERSION:2.0
PRODID:-//Baking Business - ECPv6.15.20//NONSGML v1.0//EN
CALSCALE:GREGORIAN
METHOD:PUBLISH
X-WR-CALNAME:Baking Business
X-ORIGINAL-URL:https://bakingbusiness.com.au
X-WR-CALDESC:Events for Baking Business
REFRESH-INTERVAL;VALUE=DURATION:PT1H
X-Robots-Tag:noindex
X-PUBLISHED-TTL:PT1H
BEGIN:VTIMEZONE
TZID:Australia/Brisbane
BEGIN:STANDARD
TZOFFSETFROM:+1000
TZOFFSETTO:+1000
TZNAME:AEST
DTSTART:20240101T000000
END:STANDARD
END:VTIMEZONE
BEGIN:VEVENT
DTSTART;TZID=Australia/Brisbane:20250911T080000
DTEND;TZID=Australia/Brisbane:20250911T170000
DTSTAMP:20260420T042004
CREATED:20250324T011613Z
LAST-MODIFIED:20250324T011613Z
UID:26794-1757577600-1757610000@bakingbusiness.com.au
SUMMARY:36th Official Great Aussie Pie Competition
DESCRIPTION:The Aussie Pie Council will once again present the 36th Official Great Aussie Pie Competition (OGAPC) at Fine Food Australia 2025\, which will take place in Sydney from September 8-11\, 2025.\nRegistrations will be open from July 15 to 25\, 2025.\nThe major winners will be announced on Thursday\, September 11\, at 2pm on the Competitions Stand; this will also be a live Facebook announcement.
URL:https://bakingbusiness.com.au/event/36th-official-great-aussie-pie-competition/
LOCATION:ICC Sydney Darling Harbour\, 14 Darling Drive\, Sydney\, New South Wales\, 2000\, Australia
ATTACH;FMTTYPE=image/jpeg:https://bakingbusiness.com.au/wp-content/uploads/2024/05/The-Official-Great-Aussie-Pie-Competition.jpg
END:VEVENT
END:VCALENDAR